BEGIN:VCALENDAR
VERSION:2.0
PRODID:icalendar-ruby
CALSCALE:GREGORIAN
METHOD:PUBLISH
BEGIN:VEVENT
DTSTAMP:20260424T215923Z
UID:17-1863821@fairlawnparkersburg.com
DTSTART:20260920T220000Z
DTEND:20260920T230000Z
CLASS:PUBLIC
CREATED:20260424T162031
DESCRIPTION:
LAST-MODIFIED:20260424T162031
LOCATION:Fairlawn Baptist Church
SUMMARY:Pastors Bible Study
URL;VALUE=URI:https://www.fairlawnparkersburg.com/events/pastors-bible-stud
 y/2026-09-20
ATTACH;FILENAME=Pastor-Bible-Study.jpg;FMTTYPE=image/jpeg:https://dq5pwpg1q
 8ru0.cloudfront.net/2023/05/09/10/00/04/ebc9fc4c-4f5d-4bb2-838a-3c0fbfd0f2
 05/Pastor-Bible-Study.jpg
END:VEVENT
END:VCALENDAR
