BEGIN:VCALENDAR
VERSION:2.0
PRODID:icalendar-ruby
CALSCALE:GREGORIAN
METHOD:PUBLISH
BEGIN:VEVENT
DTSTAMP:20260423T112018Z
UID:74-1848022@fairlawnparkersburg.com
DTSTART:20260708T220000Z
DTEND:20260708T230000Z
CLASS:PUBLIC
CREATED:20260422T222206
DESCRIPTION:Mom to Mom Bible Study
LAST-MODIFIED:20260422T222206
LOCATION:
SUMMARY:Mom to Mom Bible Study
URL;VALUE=URI:https://www.fairlawnparkersburg.com/events/mom-to-mom-bible-s
 tudy--74/2026-07-08
ATTACH;FILENAME=Untitled (Presentation).jpeg;FMTTYPE=image/jpeg:https://dq5
 pwpg1q8ru0.cloudfront.net/2024/11/11/15/09/01/70483a48-bc4b-4b3f-9a9b-9241
 479aa5a1/Untitled%20(Presentation).jpeg
END:VEVENT
END:VCALENDAR
