BEGIN:VCALENDAR
VERSION:2.0
PRODID:icalendar-ruby
CALSCALE:GREGORIAN
METHOD:PUBLISH
BEGIN:VEVENT
DTSTAMP:20260425T131129Z
UID:80-1869777@fairlawnparkersburg.com
DTSTART:20261028T220000Z
DTEND:20261028T233000Z
CLASS:PUBLIC
CREATED:20260425T074316
DESCRIPTION:
LAST-MODIFIED:20260425T074316
LOCATION:Room 124
SUMMARY:"Honor" Bible Study
URL;VALUE=URI:https://www.fairlawnparkersburg.com/events/honor-bible-study/
 2026-10-28
ATTACH;FILENAME=Rick%27s-D-group.png;FMTTYPE=image/png:https://dq5pwpg1q8ru
 0.cloudfront.net/2025/01/13/15/17/21/b8402bf6-66c8-4070-8cf6-05d6dd498314/
 Rick%2527s-D-group.png
END:VEVENT
END:VCALENDAR
